Workbook
Name _1._INDUSTRIA: Deplegable!$B$8:$B$24
Name SEC: #REF!
Name SECTORES: Deplegable!$A$8:$A$11

Sheet 0_Datos_del_alegante
C1: we
A7: Nombre de la Empresa/Organismo/Ente/Asociación
A8: Persona de contacto
A9: Dirección postal
A10: Email
A11: Teléfono
A14: INSTRUCCIONES | H14: HOJA 1 - OM del catálogo - Sistema de CAE | K14: HOJA 2 Memoria justificativa del la OM del Catálogo - Sistema de CAE
A16: HOJA 0: Se deben cumplimentar los datos de las celdas sombreadas en amarillo. Los datos de las tablas HOJA 1 y HOJA 2 se rellenan automaticamente. HOJA 1: Se deben redactar las alegaciones que considere oportunas el alegante únicamente respecto a la orden ministerial del Catálogo del Sistema de CAE. HOJA 2: Se deben redactar las alegaciones que considere oportunas el alegante únicamente respecto a la Memoria justificativa del la OM del Catálogo del Sistema de CAE. HOJA 3: Se deben redactar las alegaciones que considere oportunas el alegante únicamente respecto a aquellas cuestiones que se refieran al formato y redacción de todas las fichas. Se recomienda a este respecto leer detenidamente los diferentes apartados de la citada antes de cumplimentar el resto de hojas. HOJA 4: Se deben redactar las alegaciones que considere oportunas el alegante por cada una de las fichas siendo necesario a este respecto que se identifique la ficha con el código (sombreado en amarillo). Importante: Por cada ficha que se pretenda comentar se debe crear una nueva hoja dentro de este mismo libro de Excel. Cada nueva hoja habrá de nombrarse con el código de la ficha. | H16: Articulado | I16: ¿Se hace comentario? | K16: Articulado | L16: ¿Se hace comentario?
H17: Preámbulo I | I17: =IF('1_OM_Catálogo_CAE'!C2="","No","Sí") -> No | K17: 1. Motivación | L17: =IF('2_Memoria_Justif_OM_Catálogo'!D3="","No","Sí") -> No
H18: Preámbulo II | I18: =IF('1_OM_Catálogo_CAE'!C3="","No","Sí") -> No | K18: 2. Objetivos | L18: =IF('2_Memoria_Justif_OM_Catálogo'!D4="","No","Sí") -> No
H19: Preámbulo III | I19: =IF('1_OM_Catálogo_CAE'!C4="","No","Sí") -> No | K19: 3. Contenido | L19: =IF('2_Memoria_Justif_OM_Catálogo'!D5="","No","Sí") -> No
H20: Artículo 1 | I20: =IF(AND('1_OM_Catálogo_CAE'!C5="",'1_OM_Catálogo_CAE'!C6=""),"No","Sí") -> No | K20: 4. Análisis Jurídico | L20: =IF(AND('2_Memoria_Justif_OM_Catálogo'!D6="",'2_Memoria_Justif_OM_Catálogo'!D7="",'2_Memoria_Justif_OM_Catálogo'!D8=""),"No","Sí") -> No
H21: Artículo 2 | I21: =IF('1_OM_Catálogo_CAE'!C7="","No","Sí") -> No | K21: 5. Descripción de la Tramitación | L21: =IF(AND('2_Memoria_Justif_OM_Catálogo'!D9="",'2_Memoria_Justif_OM_Catálogo'!D10=""),"No","Sí") -> No
H22: Artículo 3 | I22: =IF('1_OM_Catálogo_CAE'!C8="","No","Sí") -> No | K22: 6. Análisis de Impactos | L22: =IF('2_Memoria_Justif_OM_Catálogo'!D11="","No","Sí") -> No
H23: Artículo 4 | I23: =IF(AND('1_OM_Catálogo_CAE'!C9="",'1_OM_Catálogo_CAE'!C10="",'1_OM_Catálogo_CAE'!C11=""),"No","Sí") -> No | K23: Generales | L23: =IF('2_Memoria_Justif_OM_Catálogo'!D12="","No","Sí") -> No
H24: Artículo 5 | I24: =IF(AND('1_OM_Catálogo_CAE'!C12="",'1_OM_Catálogo_CAE'!C13=""),"No","Sí") -> No
H25: Artículo 6 | I25: =IF('1_OM_Catálogo_CAE'!C14="","No","Sí") -> No
H26: Artículo 7 | I26: =IF('1_OM_Catálogo_CAE'!C15="","No","Sí") -> No
H27: Artículo 8 | I27: =IF(AND('1_OM_Catálogo_CAE'!C16="",'1_OM_Catálogo_CAE'!C17="",'1_OM_Catálogo_CAE'!C18="",'1_OM_Catálogo_CAE'!C19=""),"No","Sí") -> No
H28: Artículo 9 | I28: =IF('1_OM_Catálogo_CAE'!C20="","No","Sí") -> No
H29: Generales | I29: =IF('1_OM_Catálogo_CAE'!C21="","No","Sí") -> No

Sheet 1_OM_Catálogo_CAE
A1: ARTÍCULOS | B1: Sub apartado | C1: COMENTARIO/PROPUESTA
A2: Preámbulo I | B2: -
A3: Preámbulo II | B3: -
A4: Preámbulo III | B4: -
A5: Artículo 1 Objeto y finalidad. | B5: Art. 1.1
B6: Art. 1.2
A7: Artículo 2. Ámbito de aplicación. | B7: -
A8: Artículo 3. Aprobación del catálogo de medidas estandarizadas de eficiencia energética.
A9: Artículo 4. Contenido de las fichas técnicas del catálogo. | B9: Art. 4.1
B10: Art. 4.2
B11: Art. 4.3
A12: Artículo 5. Revisión del catálogo de medidas estandarizadas de eficiencia energética. | B12: Art. 5.1
B13: Art. 5.2
A14: Artículo 6. Difusión del catálogo de medidas estandarizadas de eficiencia energética. | B14: Art. 6.1
A15: Artículo 7. Solapamiento entre medidas estandarizadas de eficiencia energética. | B15: Art. 7.1
A16: Artículo 8. Coeficientes de corrección. | B16: Art. 8.1
B17: Art. 8.2
B18: Art. 8.3
B19: Art. 8.4
A20: Artículo 9. Eficacia
A21: Generales

Sheet 2_Memoria_Justif_OM_Catálogo
A2: APARTADOS | B2: Sub apartado | D2: COMENTARIO/PROPUESTA
A3: MEMORIA I. OPORTUNIDAD DE LA PROPUESTA | B3: 1. Motivación
B4: 2. Objetivos
B5: 3. Contenido
B6: 4. Análisis Jurídico | C6: ="-" -> -
C7: Eficacia y vigencia
C8: Adecuación de la norma al orden de distribución de competencias
B9: 5. Descripción de la Tramitación | C9: Consulta pública previa
C10: Audiencia pública
B11: 6. Análisis de Impactos | C11: Impacto económico
A12: Generales | B12: - | C12: ="-" -> -

Sheet 3_Índice_Formato_ficha
A2: Alegaciones generales y comunes al formato de todas las fichas. Anexo I de la OM del Catálogo
B5: COMENTARIO/PROPUESTA
A6: Cuadro del título
A7: 1. Ámbito de aplicación
A8: 2. Requisitos
A9: 3. Cálculo del Ahorro de Energía
A10: 4. Resultado del cálculo
A11: 5. Documentación para justificar los ahorros de la actuación y su realización.
A12: ANEXO I - Declaración responsable

Sheet 4_Aleg a fichas concretas
A2: Alegaciones a fichas concretas. Anexo I de la OM del Catálogo
B4: Seleccionar Ficha (seleccionar un único código) | C4: Sector | D4: 1. INDUSTRIA | E4: 2. TERCIARIO | F4: 3. RESIDENCIAL | G4: 4. TRANSPORTE
C5: Código
B8: COMENTARIO/PROPUESTA
A9: Cuadro del título
A10: 1. Ámbito de aplicación
A11: 2. Requisitos
A12: 3. Cálculo del Ahorro de Energía
A13: 4. Resultado del cálculo
A14: 5. Documentación para justificar los ahorros de la actuación y su realización
A15: ANEXO I - Declaración responsable
A16: OTROS ANEXOS (Indicar cuál/es)

Sheet Deplegable
B1: Índice de fichas
B2: 1. INDUSTRIA
B3: 2. TERCIARIO
B4: 3. RESIDENCIAL
B5: 4. TRANSPORTE
A7: SECTORES | B7: 1. INDUSTRIA | C7: 2. TERCIARIO | D7: 3. RESIDENCIAL | E7: 4. TRANSPORTE
A8: 1. INDUSTRIA | B8: IND010 | C8: ETR010 | D8: RES010 | E8: TRA020
A9: 2. TERCIARIO | B9: IND020 | C9: ETR011 | D9: RES011 | E9: TRA030
A10: 3. RESIDENCIAL | B10: IND030 | C10: ETR020 | D10: RES020
A11: 4. TRANSPORTE | B11: IND040 | C11: ETR021 | D11: RES021
B12: IND050 | C12: ETR030 | D12: RES030
B13: IND060 | C13: ETR040 | D13: RES040
B14: IND070 | C14: ETR050 | D14: RES050
B15: IND080 | C15: ETR060 | D15: RES051
B16: IND081 | C16: ETR061 | D16: RES052
B17: IND090 | C17: ETR080 | D17: RES053
B18: IND110 | D18: RES054
B19: IND120 | D19: RES060
B20: IND140 | D20: RES070
B21: IND150 | D21: RES071
B22: IND160 | D22: RES080
B23: IND170
B24: IND350
